BEGIN:VCALENDAR
VERSION:2.0
PRODID:-//Kieferchirurgie25 · Leah von Trott zu Solz ·  Dr. Dr. Reidick - ECPv6.10.2//NONSGML v1.0//EN
CALSCALE:GREGORIAN
METHOD:PUBLISH
X-WR-CALNAME:Kieferchirurgie25 · Leah von Trott zu Solz ·  Dr. Dr. Reidick
X-ORIGINAL-URL:https://www.kieferchirurgie-kassel.de
X-WR-CALDESC:Veranstaltungen für Kieferchirurgie25 · Leah von Trott zu Solz ·  Dr. Dr. Reidick
REFRESH-INTERVAL;VALUE=DURATION:PT1H
X-Robots-Tag:noindex
X-PUBLISHED-TTL:PT1H
BEGIN:VTIMEZONE
TZID:Europe/Berlin
BEGIN:DAYLIGHT
TZOFFSETFROM:+0100
TZOFFSETTO:+0200
TZNAME:CEST
DTSTART:20210328T010000
END:DAYLIGHT
BEGIN:STANDARD
TZOFFSETFROM:+0200
TZOFFSETTO:+0100
TZNAME:CET
DTSTART:20211031T010000
END:STANDARD
END:VTIMEZONE
BEGIN:VEVENT
DTSTART;TZID=Europe/Berlin:20211103T173000
DTEND;TZID=Europe/Berlin:20211103T183000
DTSTAMP:20260421T132820
CREATED:20211015T201226Z
LAST-MODIFIED:20211015T201226Z
UID:2560-1635960600-1635964200@www.kieferchirurgie-kassel.de
SUMMARY:Lauftreff mit Laura Hottenrott
DESCRIPTION:Seit diesem Jahr ist die erfolgreiche Mittel- und Lang­streckenläuferin Laura Hottenrott in ihre Heimat Kassel zurückgekehrt und läuft für den PSV Grün-Weiß Kassel. Mit Unter­stützung von REHAmed System Seifert\, der Tanzschule MEYERROSE und unserer Praxis wird ein Lauf­treff mit Laura Hottenrott angeboten. \nLaura hat dieses Jahr nicht nur ihre Marathon Bestzeit auf sensationelle 2:28:02 verbessert und damit die Olympianorm erfüllt\, sie gewann auch im September den Jungfrau-Marathon in der Schweiz und nur eine Woche später die Deutsche Berg­lauf-Meisterschaft in Bad Kohlgrub. \nTrotzdem liegt es ihr am Herzen Menschen für das Laufen zu be­geistern und deswegen ent­stand die Idee einen lockeren Lauftreff an­zu­bieten. Nach dem erfolgreichen und sehr schönen 1. Lauftreff mit Laura im Bergpark Wilhelmshöhe gibt es eine Fortsetzung! Alle Teil­nehmenden waren begeistert und hatten viel Spaß. Nach dem Auf­wärmen gab es noch ein bisschen Lauf-ABC von Laura\, bevor es durch den Bergpark ging. \nDer 2. Lauftreff startet nun auf dem Parkplatz hinter unserer Praxis bei der Tanzschule MEYERROSE und die Teilnehmenden erwartet wieder ein Warm-up und Lauf-ABC\, bevor wir gemeinsam in die Aue laufen und nach ca. 8 km zur Tanzschule zu­rückkehren werden! \nDie Veranstaltung richtet sich nicht an Profis\, sondern an HobbyläuferInnen die gerne einmal mit Laura eine Runde laufen möchten. \nWann findet der 2. Lauftreff statt? \nWann: Mittwoch\, den 3. November um 17:30 Uhr \nTreffpunkt: Tanzschule MEYERROSE\, Hinter der Komödie 14\, 34117 Kassel \nStrecke: ca. 8 km durch die Aue und zurück plus Lauf-ABC \nPace: ca. 6:00 Min/km   Kosten: keine   Anmeldung: nicht nötig\, einfach vorbeikommen! \nWir bitten aus Respekt und zur Sicherheit für alle Teilnehmenden die 3-G-Regeln einzuhalten! Da es sich um eine Open-Air-Sportausübung han­delt\, besteht keine Maskenpflicht.
URL:https://www.kieferchirurgie-kassel.de/veranstaltung/lauftreff-mit-laura-hottenrott
LOCATION:Tanzschule MEYERROSE\, Hinter der Komödie 14\, Kassel\, 34117\, Deutschland
ATTACH;FMTTYPE=image/jpeg:https://www.kieferchirurgie-kassel.de/wp-content/uploads/Laura.jpg
END:VEVENT
END:VCALENDAR